BEGIN:VCALENDAR
VERSION:2.0
PRODID:-//American Civil War Museum - ECPv6.15.12.2//NONSGML v1.0//EN
CALSCALE:GREGORIAN
METHOD:PUBLISH
X-WR-CALNAME:American Civil War Museum
X-ORIGINAL-URL:https://live-american-civil-war-museum.pantheonsite.io
X-WR-CALDESC:Events for American Civil War Museum
REFRESH-INTERVAL;VALUE=DURATION:PT1H
X-Robots-Tag:noindex
X-PUBLISHED-TTL:PT1H
BEGIN:VTIMEZONE
TZID:America/New_York
BEGIN:DAYLIGHT
TZOFFSETFROM:-0500
TZOFFSETTO:-0400
TZNAME:EDT
DTSTART:20230312T070000
END:DAYLIGHT
BEGIN:STANDARD
TZOFFSETFROM:-0400
TZOFFSETTO:-0500
TZNAME:EST
DTSTART:20231105T060000
END:STANDARD
BEGIN:DAYLIGHT
TZOFFSETFROM:-0500
TZOFFSETTO:-0400
TZNAME:EDT
DTSTART:20240310T070000
END:DAYLIGHT
BEGIN:STANDARD
TZOFFSETFROM:-0400
TZOFFSETTO:-0500
TZNAME:EST
DTSTART:20241103T060000
END:STANDARD
BEGIN:DAYLIGHT
TZOFFSETFROM:-0500
TZOFFSETTO:-0400
TZNAME:EDT
DTSTART:20250309T070000
END:DAYLIGHT
BEGIN:STANDARD
TZOFFSETFROM:-0400
TZOFFSETTO:-0500
TZNAME:EST
DTSTART:20251102T060000
END:STANDARD
END:VTIMEZONE
BEGIN:VEVENT
DTSTART;TZID=America/New_York:20240516T183000
DTEND;TZID=America/New_York:20240516T193000
DTSTAMP:20260425T122107
CREATED:20240216T153358Z
LAST-MODIFIED:20240425T141857Z
UID:10000180-1715884200-1715887800@live-american-civil-war-museum.pantheonsite.io
SUMMARY:Book Talk with Jim Downs - "Maladies of Empire: How Colonialism\, Slavery\, and War Transformed Medicine"
DESCRIPTION:Virtual Book Talk\n\n\n\n\n\n\n\nJoin us as historian Jim Downs reveals that the study of infectious disease depended crucially on the unrecognized contributions of non-consenting subjects―conscripted soldiers\, enslaved people\, and subjects of the empire.\n\n\n\nPlantations\, slave ships\, and battlefields were the laboratories in which physicians came to understand the spread of disease. Military doctors learned about the importance of air quality by monitoring Africans confined to the bottom of slave ships. The field hospitals of the Crimean War and the US Civil War were carefully observed experiments in disease transmission.\n\n\n\nJim Downs is the Gilder Lehrman-National Endowment for the Humanities Professor of Civil War Era Studies and History. He is the author\, co-author\, and editor of multiple books and anthologies\, including Maladies of Empire: How Colonialism\, Slavery\, and War Transformed Medicine (Harvard UP\, 2021)\, which has been translated into Chinese\, French\, Korean\, Japanese\, and Russian.\n\n\n\nHe has published articles and essays in The Atlantic\, The New Yorker\, Slate\, Vice\, The New York Times\, The Washington Post\, The Chronicle of Higher Education\, and The L.A. Review of Books\, among others. Downs has published book chapters in several edited volumes\, most recently in Remembering the Memphis Massacre: An American Story (UGA Press\, 2020). Downs is the Editor of Civil War History. He was awarded the Sheila Biddle Ford Foundation Fellowship at the Hutchins Center for African and African American History at Harvard University in 2022-23. Downs earned his P.h.D. in History at Columbia University\, his MA in American Studies also at Columbia University\, and his BA in American Literature at the University of Pennsylvania. The Organization of American Historians named him a Distinguished Lecturer in 2014-17\, which was then renewed in 2017 and again in 2020. \n\n\n\n\n\n\n\n\nReexamining the foundations of modern medicine\, Jim Downs shows that the study of infectious disease depended crucially on the unrecognized contributions of nonconsenting subjects―conscripted soldiers\, enslaved people\, and subjects of empire. Plantations\, slave ships\, and battlefields were the laboratories in which physicians came to understand the spread of disease.\n\n\n\n\nPurchase Book\n\n\n\n\nThank you for supporting our mission by purchasing through our online store. Your contribution enables us to continue providing engaging events and experiences.\n\n\n\n\n\n\n\nRegister on Eventbrite
URL:https://live-american-civil-war-museum.pantheonsite.io/event/book-talk-with-jim-downs/
LOCATION:Virtual
CATEGORIES:Virtual Programs
ATTACH;FMTTYPE=image/png:https://live-american-civil-war-museum.pantheonsite.io/wp-content/uploads/maladies-of-empire-header.png
END:VEVENT
END:VCALENDAR