BEGIN:VCALENDAR
VERSION:2.0
PRODID:-//American Civil War Museum - ECPv6.15.12.2//NONSGML v1.0//EN
CALSCALE:GREGORIAN
METHOD:PUBLISH
X-WR-CALNAME:American Civil War Museum
X-ORIGINAL-URL:https://live-american-civil-war-museum.pantheonsite.io
X-WR-CALDESC:Events for American Civil War Museum
REFRESH-INTERVAL;VALUE=DURATION:PT1H
X-Robots-Tag:noindex
X-PUBLISHED-TTL:PT1H
BEGIN:VTIMEZONE
TZID:America/New_York
BEGIN:DAYLIGHT
TZOFFSETFROM:-0500
TZOFFSETTO:-0400
TZNAME:EDT
DTSTART:20250309T070000
END:DAYLIGHT
BEGIN:STANDARD
TZOFFSETFROM:-0400
TZOFFSETTO:-0500
TZNAME:EST
DTSTART:20251102T060000
END:STANDARD
BEGIN:DAYLIGHT
TZOFFSETFROM:-0500
TZOFFSETTO:-0400
TZNAME:EDT
DTSTART:20260308T070000
END:DAYLIGHT
BEGIN:STANDARD
TZOFFSETFROM:-0400
TZOFFSETTO:-0500
TZNAME:EST
DTSTART:20261101T060000
END:STANDARD
BEGIN:DAYLIGHT
TZOFFSETFROM:-0500
TZOFFSETTO:-0400
TZNAME:EDT
DTSTART:20270314T070000
END:DAYLIGHT
BEGIN:STANDARD
TZOFFSETFROM:-0400
TZOFFSETTO:-0500
TZNAME:EST
DTSTART:20271107T060000
END:STANDARD
END:VTIMEZONE
BEGIN:VEVENT
DTSTART;TZID=America/New_York:20260129T183000
DTEND;TZID=America/New_York:20260129T193000
DTSTAMP:20260424T050016
CREATED:20251201T185710Z
LAST-MODIFIED:20251201T185817Z
UID:10001063-1769711400-1769715000@live-american-civil-war-museum.pantheonsite.io
SUMMARY:Virtual Talk: Boutwell – Radical Republican and Champion of Democracy
DESCRIPTION:Don’t miss Dr. Jeffrey Boutwell\, descendant of George S. Boutwell\, as he uncovers his ancestor’s role in shaping Civil War & Reconstruction\n\n\n\nGeorge S. Boutwell of Massachusetts was a key figure in American public life for seven decades. He was a close ally of Presidents Lincoln and Grant in the fight for racial and economic equality during the Civil War and Reconstruction Era\, and later led the anti-imperialist opposition to Presidents McKinley and Theodore Roosevelt over the annexation of the Philippines. \n\n\n\nJoin us as Boutwell’s descendant\, Dr. Jeffrey Boutwell\, explores the life of this remarkable individual and examines 19th-century politics and the failures of governance during a turbulent and formative period in American history. \n\n\n\nDr. Jeffrey Boutwell is a writer\, historian\, and public policy specialist with a forty-year career spanning journalism\, government\, and international scientific cooperation. He has written extensively on nuclear arms control\, European politics\, and Middle East security. He holds a Ph.D. in political science from MIT and a B.A. in history from Yale\, and previously worked at the American Academy of Arts and Sciences in Cambridge\, Massachusetts. His newest book\, BOUTWELL: Radical Republican and Champion of Democracy (W.W. Norton\, 2025)\, is a biography of his ancestor George S. Boutwell\, a leading figure of the Civil War and Reconstruction eras.
URL:https://live-american-civil-war-museum.pantheonsite.io/event/virtual-talk-boutwell-radical-republican-and-champion-of-democracy/
CATEGORIES:Book Talk,For Educators,For Students,Virtual Programs
ATTACH;FMTTYPE=image/png:https://live-american-civil-war-museum.pantheonsite.io/wp-content/uploads/JeffreyBoutwell_Website_-Radical-Republican-and-Champion-of-Democracypng_1.2026.png
END:VEVENT
END:VCALENDAR