BEGIN:VCALENDAR
VERSION:2.0
PRODID:-//American Civil War Museum - ECPv6.15.12.2//NONSGML v1.0//EN
CALSCALE:GREGORIAN
METHOD:PUBLISH
X-ORIGINAL-URL:https://live-american-civil-war-museum.pantheonsite.io
X-WR-CALDESC:Events for American Civil War Museum
REFRESH-INTERVAL;VALUE=DURATION:PT1H
X-Robots-Tag:noindex
X-PUBLISHED-TTL:PT1H
BEGIN:VTIMEZONE
TZID:America/New_York
BEGIN:DAYLIGHT
TZOFFSETFROM:-0500
TZOFFSETTO:-0400
TZNAME:EDT
DTSTART:20250309T070000
END:DAYLIGHT
BEGIN:STANDARD
TZOFFSETFROM:-0400
TZOFFSETTO:-0500
TZNAME:EST
DTSTART:20251102T060000
END:STANDARD
BEGIN:DAYLIGHT
TZOFFSETFROM:-0500
TZOFFSETTO:-0400
TZNAME:EDT
DTSTART:20260308T070000
END:DAYLIGHT
BEGIN:STANDARD
TZOFFSETFROM:-0400
TZOFFSETTO:-0500
TZNAME:EST
DTSTART:20261101T060000
END:STANDARD
BEGIN:DAYLIGHT
TZOFFSETFROM:-0500
TZOFFSETTO:-0400
TZNAME:EDT
DTSTART:20270314T070000
END:DAYLIGHT
BEGIN:STANDARD
TZOFFSETFROM:-0400
TZOFFSETTO:-0500
TZNAME:EST
DTSTART:20271107T060000
END:STANDARD
END:VTIMEZONE
BEGIN:VEVENT
DTSTART;TZID=America/New_York:20260416T183000
DTEND;TZID=America/New_York:20260416T193000
DTSTAMP:20260425T163828
CREATED:20260317T154121Z
LAST-MODIFIED:20260317T154124Z
UID:10001086-1776364200-1776367800@live-american-civil-war-museum.pantheonsite.io
SUMMARY:The Nameless and the Faceless of the Civil War
DESCRIPTION:Join award-winning poet Lisa G. Samia for an online talk on her Civil War poetry series\, including The Nameless and the Faceless. \n\n\n\nNot everyone who witnessed and experienced the Civil War is represented in history. By combining the rhyme and narrative of poetry with Civil War history\, lost voices of the past come forth to share their experiences and suffering—where the humanity of history and the songs of the soul come together to create a deeper empathy for those lost and unknown. \n\n\n\nLisa G. Samia is an award-winning poet and author specializing in American Civil War history. She was selected as a National Park Service Artist-in-Residence for Stones River National Battlefield in 2025\, Manassas National Battlefield Park in 2021\, and Gettysburg National Military Park in 2020 for her poetry. Samia is the author of three Civil War poetry and essay collections: The Nameless and the Faceless of the Civil War\, The Nameless and the Faceless Women of the Civil War\, and The Nameless and the Faceless of the Civil War: Gettysburg\, Manassas & More. Her third book in the series received a nomination from the International Edgar Allan Poe Festival & Awards in October 2024 in Baltimore.
URL:https://live-american-civil-war-museum.pantheonsite.io/event/the-nameless-and-the-faceless-of-the-civil-war/
CATEGORIES:Book Talk,For Educators,For Students,Lectures,Virtual Programs
ATTACH;FMTTYPE=image/png:https://live-american-civil-war-museum.pantheonsite.io/wp-content/uploads/website-graphics-9.png
END:VEVENT
BEGIN:VEVENT
DTSTART;TZID=America/New_York:20260507T183000
DTEND;TZID=America/New_York:20260507T193000
DTSTAMP:20260425T163828
CREATED:20260416T203858Z
LAST-MODIFIED:20260416T203926Z
UID:10001092-1778178600-1778182200@live-american-civil-war-museum.pantheonsite.io
SUMMARY:Opium Slavery with Jonathan S. Jones
DESCRIPTION:Join Jonathan S. Jones for a virtual talk on Civil War veterans\, opiate addiction\, and how its legacy connects to today’s opioid crisis. \n\n\n\nDuring the Civil War\, opium and morphine were widely used because they were easy to get\, making them a big part of wartime medicine. After the war ended\, thousands of sick and injured soldiers became addicted\, or as nineteenth-century Americans phrased it\, “enslaved” to the drug. Veterans\, their families\, and communities struggled to deal with the health and social effects that came with addiction. \n\n\n\nMedical and government authorities didn’t always respond well\, often saying addiction was caused by moral weakness\, lack of manliness\, or mental problems. Framing addiction as “opium slavery” limited the effectiveness of care and left many veterans to suffer needlessly for decades after the war ended. \n\n\n\nUsing veterans’ own accounts\, along with hospital and asylum records\, government reports\, newspapers\, and advertisements\, Jonathan S. Jones brings attention to these stories. In doing so\, Jones provides critical historical context for the modern opioid crisis\, which bears a tragic resemblance to that of the post–Civil War era.
URL:https://live-american-civil-war-museum.pantheonsite.io/event/opium-slavery-with-jonathan-s-jones/
CATEGORIES:Book Talk,For Educators,For Students,Lectures,Virtual Programs
ATTACH;FMTTYPE=image/png:https://live-american-civil-war-museum.pantheonsite.io/wp-content/uploads/Jones_May2026_WEB.png
END:VEVENT
END:VCALENDAR